BEGIN:VCALENDAR
VERSION:2.0
PRODID:Dublin San Ramon Services District Calendar Creator
METHOD:PUBLISH
BEGIN:VEVENT
DTSTAMP:20251126T083603
DTSTART:20260216T000000
DTEND:20260216T235900
SUMMARY:Holiday Closure
DESCRIPTION:DSRSD offices will be closed Monday, February 16. Learn how to&nbsp;<span style="text-decoration: underline;"><a href="https://dsrsd.prod-as.govaccess.org/about-us/contact-us">contact us</a></span>&nbsp;outside business hours.
X-ALT-DESC;FMTTYPE=text/html:DSRSD offices will be closed Monday, February 16. Learn how to&nbsp;<span style="text-decoration: underline;"><a href="https://dsrsd.prod-as.govaccess.org/about-us/contact-us">contact us</a></span>&nbsp;outside business hours.
LOCATION:
CLASS:PUBLIC
END:VEVENT
END:VCALENDAR
