BEGIN:VCALENDAR
VERSION:2.0
PRODID:Dublin San Ramon Services District Calendar Creator
METHOD:PUBLISH
BEGIN:VEVENT
DTSTAMP:20260130T143203
DTSTART:20260203T180000
DTEND:20260203T190000
SUMMARY:Board Meeting
DESCRIPTION:<p><b>DSRSD will be launching a new redesigned District website on the morning of Tuesday, February 3, 2026. Thereafter, agenda notifications will be sent through the Mailchimp platform, which is already in use for some DSRSD email notifications.&nbsp; The link to the agenda will not work after the launch, but the agenda will be available from the Agenda and Minutes Portal at <a href="mailto:&#68;&#83;&#82;&#83;&#68;&#37;20&#65;&#103;&#101;&#110;&#100;&#97;&#37;20&#79;&#110;&#108;&#105;&#110;&#101;">DSRSD Agenda Online</a> or via the home page at <a href="https://gcc02.safelinks.protection.outlook.com/?url=http%3A%2F%2Fwww.dsrsd.com%2F&amp;data=05%7C02%7Cgonzales%40dsrsd.com%7Cdef30f8f13b54542d3eb08de6023c44a%7C665f5b44ffa04c3f909d782b76b45ef9%7C0%7C0%7C639053903899168804%7CUnknown%7CTWFpbGZsb3d8eyJFbXB0eU1hcGkiOnRydWUsIlYiOiIwLjAuMDAwMCIsIlAiOiJXaW4zMiIsIkFOIjoiTWFpbCIsIldUIjoyfQ%3D%3D%7C0%7C%7C%7C&amp;sdata=L%2BYMyUC9fIcLBECmTokiJbrdp1cgY%2FChIXhFDXgJ7bA%3D&amp;reserved=0">www.dsrsd.com</a>.&nbsp; Please email <a href="mailto:&#99;&#111;&#110;&#116;&#97;&#99;&#116;&#64;&#100;&#115;&#114;&#115;&#100;&#46;&#99;&#111;&#109;">contact@dsrsd.com</a> or call 925-828-0515 if you experience any issues. </b></p>
X-ALT-DESC;FMTTYPE=text/html:<p><b>DSRSD will be launching a new redesigned District website on the morning of Tuesday, February 3, 2026. Thereafter, agenda notifications will be sent through the Mailchimp platform, which is already in use for some DSRSD email notifications.&nbsp; The link to the agenda will not work after the launch, but the agenda will be available from the Agenda and Minutes Portal at <a href="mailto:&#68;&#83;&#82;&#83;&#68;&#37;20&#65;&#103;&#101;&#110;&#100;&#97;&#37;20&#79;&#110;&#108;&#105;&#110;&#101;">DSRSD Agenda Online</a> or via the home page at <a href="https://gcc02.safelinks.protection.outlook.com/?url=http%3A%2F%2Fwww.dsrsd.com%2F&amp;data=05%7C02%7Cgonzales%40dsrsd.com%7Cdef30f8f13b54542d3eb08de6023c44a%7C665f5b44ffa04c3f909d782b76b45ef9%7C0%7C0%7C639053903899168804%7CUnknown%7CTWFpbGZsb3d8eyJFbXB0eU1hcGkiOnRydWUsIlYiOiIwLjAuMDAwMCIsIlAiOiJXaW4zMiIsIkFOIjoiTWFpbCIsIldUIjoyfQ%3D%3D%7C0%7C%7C%7C&amp;sdata=L%2BYMyUC9fIcLBECmTokiJbrdp1cgY%2FChIXhFDXgJ7bA%3D&amp;reserved=0">www.dsrsd.com</a>.&nbsp; Please email <a href="mailto:&#99;&#111;&#110;&#116;&#97;&#99;&#116;&#64;&#100;&#115;&#114;&#115;&#100;&#46;&#99;&#111;&#109;">contact@dsrsd.com</a> or call 925-828-0515 if you experience any issues. </b></p>
LOCATION:DSRSD Boardroom\, 7051 Dublin Blvd Dublin\, California 94568
CLASS:PUBLIC
END:VEVENT
END:VCALENDAR
