BEGIN:VCALENDAR
VERSION:2.0
PRODID:Dublin San Ramon Services District Calendar Creator
METHOD:PUBLISH
BEGIN:VEVENT
DTSTAMP:20251203T101728
DTSTART:20260427T180000
DTEND:20260427T190000
SUMMARY:DERWA JPA Meeting
DESCRIPTION:
X-ALT-DESC;FMTTYPE=text/html:
LOCATION:DSRSD Boardroom\, 7051 Dublin Blvd Dublin\, California 94568
CLASS:PUBLIC
END:VEVENT
END:VCALENDAR
